BEGIN:VCALENDAR
VERSION:2.0
PRODID:-//Tahoe Jewish Community - ECPv6.15.17//NONSGML v1.0//EN
CALSCALE:GREGORIAN
METHOD:PUBLISH
X-WR-CALNAME:Tahoe Jewish Community
X-ORIGINAL-URL:https://tahoejewishcommunity.org
X-WR-CALDESC:Events for Tahoe Jewish Community
REFRESH-INTERVAL;VALUE=DURATION:PT1H
X-Robots-Tag:noindex
X-PUBLISHED-TTL:PT1H
BEGIN:VTIMEZONE
TZID:America/Los_Angeles
BEGIN:DAYLIGHT
TZOFFSETFROM:-0800
TZOFFSETTO:-0700
TZNAME:PDT
DTSTART:20250309T100000
END:DAYLIGHT
BEGIN:STANDARD
TZOFFSETFROM:-0700
TZOFFSETTO:-0800
TZNAME:PST
DTSTART:20251102T090000
END:STANDARD
BEGIN:DAYLIGHT
TZOFFSETFROM:-0800
TZOFFSETTO:-0700
TZNAME:PDT
DTSTART:20260308T100000
END:DAYLIGHT
BEGIN:STANDARD
TZOFFSETFROM:-0700
TZOFFSETTO:-0800
TZNAME:PST
DTSTART:20261101T090000
END:STANDARD
BEGIN:DAYLIGHT
TZOFFSETFROM:-0800
TZOFFSETTO:-0700
TZNAME:PDT
DTSTART:20270314T100000
END:DAYLIGHT
BEGIN:STANDARD
TZOFFSETFROM:-0700
TZOFFSETTO:-0800
TZNAME:PST
DTSTART:20271107T090000
END:STANDARD
END:VTIMEZONE
BEGIN:VEVENT
DTSTART;TZID=America/Los_Angeles:20260512T183000
DTEND;TZID=America/Los_Angeles:20260512T200000
DTSTAMP:20260423T014656
CREATED:20260212T013620Z
LAST-MODIFIED:20260419T210847Z
UID:15096-1778610600-1778616000@tahoejewishcommunity.org
SUMMARY:NTHC: NTHC Board Meeting
DESCRIPTION:https://us02web.zoom.us/j/84257852397?pwd=VGceNcQVbOxKiefnyT4arrJzpnYXAH.1 \n \nPlease join us for our Monthly Board Meeting. Either in person or through Zoom. \nPlease contact Heidi Doyle for the Zoom Link hdoyle55@gmail.com
URL:https://tahoejewishcommunity.org/event/nthc-nthc-board-meeting-15/
LOCATION:North Tahoe Hebrew Congregation\, 7000 Latone Ave\, Kings Beach\, CA\, United States
CATEGORIES:NTHC
GEO:39.241133;-120.047583
X-APPLE-STRUCTURED-LOCATION;VALUE=URI;X-ADDRESS=North Tahoe Hebrew Congregation 7000 Latone Ave Kings Beach CA United States;X-APPLE-RADIUS=500;X-TITLE=7000 Latone Ave:geo:-120.047583,39.241133
END:VEVENT
END:VCALENDAR