BEGIN:VCALENDAR
VERSION:2.0
PRODID:-//Tahoe Jewish Community - ECPv6.15.17//NONSGML v1.0//EN
CALSCALE:GREGORIAN
METHOD:PUBLISH
X-WR-CALNAME:Tahoe Jewish Community
X-ORIGINAL-URL:https://tahoejewishcommunity.org
X-WR-CALDESC:Events for Tahoe Jewish Community
REFRESH-INTERVAL;VALUE=DURATION:PT1H
X-Robots-Tag:noindex
X-PUBLISHED-TTL:PT1H
BEGIN:VTIMEZONE
TZID:America/Los_Angeles
BEGIN:DAYLIGHT
TZOFFSETFROM:-0800
TZOFFSETTO:-0700
TZNAME:PDT
DTSTART:20250309T100000
END:DAYLIGHT
BEGIN:STANDARD
TZOFFSETFROM:-0700
TZOFFSETTO:-0800
TZNAME:PST
DTSTART:20251102T090000
END:STANDARD
BEGIN:DAYLIGHT
TZOFFSETFROM:-0800
TZOFFSETTO:-0700
TZNAME:PDT
DTSTART:20260308T100000
END:DAYLIGHT
BEGIN:STANDARD
TZOFFSETFROM:-0700
TZOFFSETTO:-0800
TZNAME:PST
DTSTART:20261101T090000
END:STANDARD
BEGIN:DAYLIGHT
TZOFFSETFROM:-0800
TZOFFSETTO:-0700
TZNAME:PDT
DTSTART:20270314T100000
END:DAYLIGHT
BEGIN:STANDARD
TZOFFSETFROM:-0700
TZOFFSETTO:-0800
TZNAME:PST
DTSTART:20271107T090000
END:STANDARD
END:VTIMEZONE
BEGIN:VEVENT
DTSTART;TZID=America/Los_Angeles:20260315T190000
DTEND;TZID=America/Los_Angeles:20260315T203000
DTSTAMP:20260423T015001
CREATED:20260210T231851Z
LAST-MODIFIED:20260306T224830Z
UID:15051-1773601200-1773606600@tahoejewishcommunity.org
SUMMARY:TJC: March Book Club
DESCRIPTION:Join us for our next TJC Book Club Book on zoom \nJewish Humor: What the Best Jokes Say About the Jews \n  \nTopic: Book Club: Jewish Humor\nTime: Mar 15\, 2026 07:00 PM Pacific Time (US and Canada)\nJoin Zoom Meeting\nhttps://us06web.zoom.us/j/88586071207?pwd=1WYcG2Wu0csKbXgT7mTGwstBkPwPav.1 \nMeeting ID: 885 8607 1207\nPasscode: 019787
URL:https://tahoejewishcommunity.org/event/tjc-march-book-club/
CATEGORIES:TJC
END:VEVENT
END:VCALENDAR