BEGIN:VCALENDAR
VERSION:2.0
PRODID:-//Tahoe Jewish Community - ECPv6.15.17//NONSGML v1.0//EN
CALSCALE:GREGORIAN
METHOD:PUBLISH
X-WR-CALNAME:Tahoe Jewish Community
X-ORIGINAL-URL:https://tahoejewishcommunity.org
X-WR-CALDESC:Events for Tahoe Jewish Community
REFRESH-INTERVAL;VALUE=DURATION:PT1H
X-Robots-Tag:noindex
X-PUBLISHED-TTL:PT1H
BEGIN:VTIMEZONE
TZID:America/Los_Angeles
BEGIN:DAYLIGHT
TZOFFSETFROM:-0800
TZOFFSETTO:-0700
TZNAME:PDT
DTSTART:20250309T100000
END:DAYLIGHT
BEGIN:STANDARD
TZOFFSETFROM:-0700
TZOFFSETTO:-0800
TZNAME:PST
DTSTART:20251102T090000
END:STANDARD
BEGIN:DAYLIGHT
TZOFFSETFROM:-0800
TZOFFSETTO:-0700
TZNAME:PDT
DTSTART:20260308T100000
END:DAYLIGHT
BEGIN:STANDARD
TZOFFSETFROM:-0700
TZOFFSETTO:-0800
TZNAME:PST
DTSTART:20261101T090000
END:STANDARD
BEGIN:DAYLIGHT
TZOFFSETFROM:-0800
TZOFFSETTO:-0700
TZNAME:PDT
DTSTART:20270314T100000
END:DAYLIGHT
BEGIN:STANDARD
TZOFFSETFROM:-0700
TZOFFSETTO:-0800
TZNAME:PST
DTSTART:20271107T090000
END:STANDARD
END:VTIMEZONE
BEGIN:VEVENT
DTSTART;TZID=America/Los_Angeles:20260807T160000
DTEND;TZID=America/Los_Angeles:20260807T200000
DTSTAMP:20260424T070432
CREATED:20260423T224713Z
LAST-MODIFIED:20260423T224713Z
UID:19090-1786118400-1786132800@tahoejewishcommunity.org
SUMMARY:TJC: Shabbat at BIG BLUEgrass Benefit Concert 2026
DESCRIPTION:Celebrate Shabbat and support the Sierra State Parks Foundation and enjoy the biggest Bluegrass festival in the Tahoe Basin! \nDoors open at 4 pm. Music begins at 5 pm and goes until dark. The first 100 tickets are available at $40 for Early Bird Pricing. General Admission is $45 per person\, students with a valid college ID are $30 per person\, and children 6-12 are $10 per child (kids under 6 are free!). Tickets will be available at the door for $50. Parking is $10*. This event has sold out in previous years\, so we encourage you to pre-order your tickets. \n\n\n\n\n \nBand Line-up: Loretta Lynch\, Broken Compass Bluegrass\, and Jessica Malone Band \n\n\n \nClick Here for Tickets and Information! \nDuring the break between the first and second sets\, the emcee will announce a brief Shabbat Service hosted by TJC – Tahoe Jewish Community\, a project of North Tahoe Hebrew Congregation and Temple Bat Yam! We will be gathering at the Gazebo next to the Ehrman Mansion. Look for our sign. \nTo attend the concert and participate in supporting Sierra State Park Services\, you must purchase tickets. \nLook forward to seeing you there! \nPlease reach out with any questions. alicia@tbytahoe.org \n\n\n\n\n\n\n\n\n\n\n\n\n\n\n\n\n \n 
URL:https://tahoejewishcommunity.org/event/tjc-shabbat-at-big-bluegrass-benefit-concert-2026/
LOCATION:Sugar Pine Point State Park\, 7595 Hwy 89\, Tahoma\, California\, 96142\, United States
CATEGORIES:TJC
END:VEVENT
END:VCALENDAR